BEGIN:VCALENDAR
VERSION:2.0
PRODID:-//True sisters - ECPv6.15.20//NONSGML v1.0//EN
CALSCALE:GREGORIAN
METHOD:PUBLISH
X-WR-CALNAME:True sisters
X-ORIGINAL-URL:https://www.truesisters.se
X-WR-CALDESC:Händelser för True sisters
REFRESH-INTERVAL;VALUE=DURATION:PT1H
X-Robots-Tag:noindex
X-PUBLISHED-TTL:PT1H
BEGIN:VTIMEZONE
TZID:Europe/Stockholm
BEGIN:DAYLIGHT
TZOFFSETFROM:+0100
TZOFFSETTO:+0200
TZNAME:CEST
DTSTART:20250330T010000
END:DAYLIGHT
BEGIN:STANDARD
TZOFFSETFROM:+0200
TZOFFSETTO:+0100
TZNAME:CET
DTSTART:20251026T010000
END:STANDARD
BEGIN:DAYLIGHT
TZOFFSETFROM:+0100
TZOFFSETTO:+0200
TZNAME:CEST
DTSTART:20260329T010000
END:DAYLIGHT
BEGIN:STANDARD
TZOFFSETFROM:+0200
TZOFFSETTO:+0100
TZNAME:CET
DTSTART:20261025T010000
END:STANDARD
BEGIN:DAYLIGHT
TZOFFSETFROM:+0100
TZOFFSETTO:+0200
TZNAME:CEST
DTSTART:20270328T010000
END:DAYLIGHT
BEGIN:STANDARD
TZOFFSETFROM:+0200
TZOFFSETTO:+0100
TZNAME:CET
DTSTART:20271031T010000
END:STANDARD
END:VTIMEZONE
BEGIN:VEVENT
DTSTART;TZID=Europe/Stockholm:20260516T100000
DTEND;TZID=Europe/Stockholm:20260516T150000
DTSTAMP:20260419T165308
CREATED:20260319T125804Z
LAST-MODIFIED:20260319T130340Z
UID:1711-1778925600-1778943600@www.truesisters.se
SUMMARY:Work shop den 16 maj i multidimensionalitet & transformation
DESCRIPTION:Välkommen till en halvdag med oss där vi dyker djupare in i multidimensionalitet & transformation \nEfter vår workshop på SSGs förening förra veckan var det flera som uttryckte en önskan om att få fortsätta – att gå djupare\, utforska mer och uppleva fler övningar och TR-processer.Därför bjuder vi nu in till en ny workshop med fördjupning. \nDen här dagen är anpassad för alla nivåer.Vi varvar information med upplevelsebaserade övningar där du får möjlighet att landa djupare i dig själv\, få nya insikter och möta fler delar av ditt inre. \nUnder dagen guidar vi även två TR-processer\, vilket skapar utrymme för transformation\, integration och en djupare förankring i din egen energi. \n\n🗓 Datum: 16 maj 2026🕙 Tid: 10.00–15.00 (inkl. ca 1 timmes lunchpaus)📍 Plats: SSG\, Karl Staffsgatan 20a \n☕ Vi bjuder på kaffe\, te och fika(Mikro och kylskåp finns\, samt restauranger i närheten) \n💰 Investering: 600 kr📩 Anmälan: hej@truesisters.se\nEller till Nina Vingesand på 0708-949171 \n\nTa gärna med:Mjuka kläder\, något varmt till fötterna\, anteckningsbok och favoritpenna \n📞 Frågor:0708-949171 \n\nVälkommen till en dag där du får utforska din inre multidimensionalitet i en trygg och tillåtande miljö \nMed värme\,Christina & NinaTRUE Sisters \n 
URL:https://www.truesisters.se/event/forslag-pa-work-shop-den-16-maj-i-multidimensionalitet-transformation/
LOCATION:SSG (Spiritualistiska Sällskapet i Göteborg)\, Karl Staaffsgatan 20A\, Göteborg
CATEGORIES:workshop
ATTACH;FMTTYPE=image/jpeg:https://www.truesisters.se/wp-content/uploads/truesistersse-sidbild.jpg
END:VEVENT
END:VCALENDAR